BEGIN:VCALENDAR
VERSION:2.0
PRODID:-//Kern Subbasin Groundwater Sustainability - ECPv6.15.20//NONSGML v1.0//EN
CALSCALE:GREGORIAN
METHOD:PUBLISH
X-WR-CALNAME:Kern Subbasin Groundwater Sustainability
X-ORIGINAL-URL:https://kerngsp.com
X-WR-CALDESC:Events for Kern Subbasin Groundwater Sustainability
REFRESH-INTERVAL;VALUE=DURATION:PT1H
X-Robots-Tag:noindex
X-PUBLISHED-TTL:PT1H
BEGIN:VTIMEZONE
TZID:UTC
BEGIN:STANDARD
TZOFFSETFROM:+0000
TZOFFSETTO:+0000
TZNAME:UTC
DTSTART:20230101T000000
END:STANDARD
END:VTIMEZONE
BEGIN:VTIMEZONE
TZID:America/Los_Angeles
BEGIN:DAYLIGHT
TZOFFSETFROM:-0800
TZOFFSETTO:-0700
TZNAME:PDT
DTSTART:20240310T100000
END:DAYLIGHT
BEGIN:STANDARD
TZOFFSETFROM:-0700
TZOFFSETTO:-0800
TZNAME:PST
DTSTART:20241103T090000
END:STANDARD
BEGIN:DAYLIGHT
TZOFFSETFROM:-0800
TZOFFSETTO:-0700
TZNAME:PDT
DTSTART:20250309T100000
END:DAYLIGHT
BEGIN:STANDARD
TZOFFSETFROM:-0700
TZOFFSETTO:-0800
TZNAME:PST
DTSTART:20251102T090000
END:STANDARD
BEGIN:DAYLIGHT
TZOFFSETFROM:-0800
TZOFFSETTO:-0700
TZNAME:PDT
DTSTART:20260308T100000
END:DAYLIGHT
BEGIN:STANDARD
TZOFFSETFROM:-0700
TZOFFSETTO:-0800
TZNAME:PST
DTSTART:20261101T090000
END:STANDARD
END:VTIMEZONE
BEGIN:VEVENT
DTSTART;TZID=UTC:20260418T100000
DTEND;TZID=UTC:20260418T150000
DTSTAMP:20260423T171739
CREATED:20260406T234055Z
LAST-MODIFIED:20260406T234055Z
UID:1063-1776506400-1776524400@kerngsp.com
SUMMARY:ਕਮਿਊਨਿਟੀ ਪਾਪ-ਅੱਪ
DESCRIPTION:Earth Day 661 Festival ਵਿੱਚ ਸਾਡੇ ਨਾਲ ਸ਼ਾਮਲ ਹੋਵੋ ਅਤੇ ਜਾਣੋ ਕਿ Kern Subbasin ਦੀਆਂ Groundwater Sustainability Agencies ਕਿਵੇਂ ਅੱਜ ਅਤੇ ਆਉਣ ਵਾਲੀਆਂ ਪੀੜੀਆਂ ਲਈ ਭੂਗਰਭ ਪਾਣੀ ਨੂੰ ਟਿਕਾਊ ਢੰਗ ਨਾਲ ਪ੍ਰਬੰਧਿਤ ਕਰ ਰਹੀਆਂ ਹਨ! ਜੇ ਤੁਹਾਨੂੰ ਪੰਜਾਬੀ ਭਾਸ਼ਾ ਵਿੱਚ ਦੁਭਾਸ਼ੀਆ ਦੀ ਲੋੜ ਹੈ\, ਤਾਂ ਕਿਰਪਾ ਕਰਕੇ 9 ਅਪ੍ਰੈਲ ਤੱਕ kpalys@intera.com ‘ਤੇ ਈਮੇਲ ਕਰੋ।
URL:https://kerngsp.com/event/%e0%a8%95%e0%a8%ae%e0%a8%bf%e0%a8%8a%e0%a8%a8%e0%a8%bf%e0%a8%9f%e0%a9%80-%e0%a8%aa%e0%a8%be%e0%a8%aa-%e0%a8%85%e0%a9%b1%e0%a8%aa/
LOCATION:Beach Park\, 3400 21st Street\, Bakersfield\, CA\, 93301\, United States
END:VEVENT
BEGIN:VEVENT
DTSTART;TZID=UTC:20260418T100000
DTEND;TZID=UTC:20260418T150000
DTSTAMP:20260423T171739
CREATED:20260406T233942Z
LAST-MODIFIED:20260406T233942Z
UID:1061-1776506400-1776524400@kerngsp.com
SUMMARY:Evento Comunitario: Earth Day 661 Festival
DESCRIPTION:¡Acompáñenos en el Festival Earth Day 661 para aprender cómo las Agencias de Sostenibilidad de Aguas Subterráneas del Subcuenca de Kern están gestionando el agua subterránea de manera sostenible para hoy y las futuras generaciones!
URL:https://kerngsp.com/event/evento-comunitario-earth-day-661-festival/
LOCATION:Beach Park\, 3400 21st Street\, Bakersfield\, CA\, 93301\, United States
END:VEVENT
BEGIN:VEVENT
DTSTART;TZID=UTC:20260418T100000
DTEND;TZID=UTC:20260418T150000
DTSTAMP:20260423T171739
CREATED:20260406T233819Z
LAST-MODIFIED:20260406T233819Z
UID:1058-1776506400-1776524400@kerngsp.com
SUMMARY:Community Pop-Up: Earth Day 661 Festival
DESCRIPTION:Join us at the Earth Day 661 Festival to learn how the Kern Subbasin Groundwater Sustainability Agencies are managing groundwater sustainably for today and future generations!
URL:https://kerngsp.com/event/community-pop-up-earth-day-661-festival/
LOCATION:Beach Park\, 3400 21st Street\, Bakersfield\, CA\, 93301\, United States
END:VEVENT
BEGIN:VEVENT
DTSTART;TZID=UTC:20260305T080000
DTEND;TZID=UTC:20260305T160000
DTSTAMP:20260423T171739
CREATED:20260225T235739Z
LAST-MODIFIED:20260225T235919Z
UID:1045-1772697600-1772726400@kerngsp.com
SUMMARY:2026 Kern County Water Summit - Hosted by the Water Association of Kern County
DESCRIPTION:Stop by our booth and join a day of knowledge sharing\, meaningful conversations\, and connection with others who care deeply about our region’s water—today and for the future. Must register with the Water Association of Kern County in advance to attend (Upcoming Events – Water Association of Kern County). \nVisita nuestro stand y participa en un día de intercambio de conocimientos\, conversaciones significativas y conexión con otras personas que se preocupan profundamente por el agua de nuestra región\, hoy y en el futuro. Es necesario registrarse con anticipación a través de la Asociación de Agua del Condado de Kern para asistir (consulte su página de Próximos Eventos). \nਸਾਡੇ ਬੂਥ ‘ਤੇ ਆਓ ਅਤੇ ਜਾਣਕਾਰੀ ਸਾਂਝੀ ਕਰਨ\, ਅਰਥਪੂਰਨ ਗੱਲਬਾਤਾਂ ਕਰਨ ਅਤੇ ਉਹਨਾਂ ਲੋਕਾਂ ਨਾਲ ਜੁੜਨ ਦਾ ਮੌਕਾ ਲਵੋ ਜੋ ਅੱਜ ਅਤੇ ਭਵਿੱਖ ਲਈ ਸਾਡੇ ਇਲਾਕੇ ਦੇ ਪਾਣੀ ਦੀ ਸੰਭਾਲ ਬਾਰੇ ਚਿੰਤਤ ਹਨ। ਹਾਜ਼ਰੀ ਲਈ ਪਹਿਲਾਂ ਤੋਂ Water Association of Kern County ਨਾਲ ਰਜਿਸਟ੍ਰੇਸ਼ਨ ਕਰਨਾ ਲਾਜ਼ਮੀ ਹੈ (ਉਨ੍ਹਾਂ ਦੇ Upcoming Events ਪੇਜ ਵੇਖੋ)।
URL:https://kerngsp.com/event/2026-kern-county-water-summit-hosted-by-the-water-association-of-kern-county/
LOCATION:Dignity Health Theater\, 1001 Truxtun Avenue\, Bakersfield\, CA\, 93301\, United States
ORGANIZER;CN="Water Association of Kern County":MAILTO:info@wakc.com
END:VEVENT
BEGIN:VEVENT
DTSTART;TZID=America/Los_Angeles:20250611T180000
DTEND;TZID=America/Los_Angeles:20250611T200000
DTSTAMP:20260423T171739
CREATED:20250521T041356Z
LAST-MODIFIED:20250610T183815Z
UID:864-1749664800-1749672000@kerngsp.com
SUMMARY:Virtual Workshop
DESCRIPTION:Español | Punjabi \nJoin Zoom Meeting Via the Link Below:  https://bit.ly/4l1wJCb  \nIMPORTANT ANNOUNCEMENT  \nThe Kern County Subbasin Groundwater Sustainability Agencies are in the process of revising the 2024 Amended Groundwater Sustainability Plan (GSP).   \nThe DRAFT 2025 Amended Kern County Subbasin GSP is scheduled to be posted on KernGSP.com/gsp-documents/ and commence a public comment period this June.   \nWant to learn about these revisions and what they mean to different beneficial users? Attend one of our upcoming Workshops!  \nMaterials and communications for all three workshops will be provided in English\, Spanish\, and Punjabi. The in-person workshop on June 3rd will feature a designated “Kids’ Corner” stocked with books and toys\, conveniently located within clear view of the presentation area for easy supervision.  \n  \n 
URL:https://kerngsp.com/event/virtual-workshop-3/
LOCATION:Zoom
END:VEVENT
BEGIN:VEVENT
DTSTART;TZID=UTC:20250605T180000
DTEND;TZID=UTC:20250605T200000
DTSTAMP:20260423T171739
CREATED:20250521T041225Z
LAST-MODIFIED:20250529T233003Z
UID:866-1749146400-1749153600@kerngsp.com
SUMMARY:Virtual Workshop
DESCRIPTION:Español | Punjabi \nJoin Zoom Meeting Via the Link Below: https://bit.ly/4l1wJCb \nIMPORTANT ANNOUNCEMENT  \nThe Kern County Subbasin Groundwater Sustainability Agencies are in the process of revising the 2024 Amended Groundwater Sustainability Plan (GSP).   \nThe DRAFT 2025 Amended Kern County Subbasin GSP is scheduled to be posted on KernGSP.com/gsp-documents/ and commence a public comment period this June.   \nWant to learn about these revisions and what they mean to different beneficial users? Attend one of our upcoming Workshops!  \nMaterials and communications for all three workshops will be provided in English\, Spanish\, and Punjabi. The in-person workshop on June 3rd will feature a designated “Kids’ Corner” stocked with books and toys\, conveniently located within clear view of the presentation area for easy supervision.  \n 
URL:https://kerngsp.com/event/virtual-workshop-2/
LOCATION:Zoom
END:VEVENT
BEGIN:VEVENT
DTSTART;TZID=UTC:20250603T180000
DTEND;TZID=UTC:20250603T200000
DTSTAMP:20260423T171739
CREATED:20250521T034542Z
LAST-MODIFIED:20250521T044623Z
UID:865-1748973600-1748980800@kerngsp.com
SUMMARY:In-Person Workshop
DESCRIPTION:Español | Punjabi \nIMPORTANT ANNOUNCEMENT  \nThe Kern County Subbasin Groundwater Sustainability Agencies are in the process of revising the 2024 Amended Groundwater Sustainability Plan (GSP).   \nThe DRAFT 2025 Amended Kern County Subbasin GSP is scheduled to be posted on KernGSP.com/gsp-documents/ and commence a public comment period this June.   \nWant to learn about these revisions and what they mean to different beneficial users? Attend one of our upcoming Workshops!  \nMaterials and communications for all three workshops will be provided in English\, Spanish\, and Punjabi. The in-person workshop on June 3rd will feature a designated “Kids’ Corner” stocked with books and toys\, conveniently located within clear view of the presentation area for easy supervision. 
URL:https://kerngsp.com/event/virtual-workshop/
LOCATION:Martin Luther King Community Center\, 1000 S Owens Street\, Bakersfield\, CA\, 93307\, United States
ORGANIZER;CN="Kern County Subbasin":MAILTO:comments@KernGSP.com
END:VEVENT
BEGIN:VEVENT
DTSTART;TZID=UTC:20250510T090000
DTEND;TZID=UTC:20250510T110000
DTSTAMP:20260423T171739
CREATED:20250402T200411Z
LAST-MODIFIED:20250402T202244Z
UID:644-1746867600-1746874800@kerngsp.com
SUMMARY:Community Pop-Up Event
DESCRIPTION:Learn about resources available through Self-Help Enterprises and engage with your Groundwater Sustainability Agency. Your voices shapes water solutions! \nCommunity Pop-Up Flyer – May 10 \n 
URL:https://kerngsp.com/event/community-pop-up-event-5/
LOCATION:Bear Mountain Park\, 10300 San Diego Street\, Lamont\, CA\, 93241\, United States
ORGANIZER;CN="Kern County Subbasin":MAILTO:comments@KernGSP.com
END:VEVENT
BEGIN:VEVENT
DTSTART;TZID=UTC:20250503T100000
DTEND;TZID=UTC:20250503T140000
DTSTAMP:20260423T171739
CREATED:20250402T200401Z
LAST-MODIFIED:20250402T202221Z
UID:666-1746266400-1746280800@kerngsp.com
SUMMARY:Community Pop-Up Event
DESCRIPTION:Held at Shafter’s Cinco de Mayo Festival. Engage with your Groundwater Sustainability Agency – your voice shapes water solutions! \nCommunity Pop-Up Flyer May 3
URL:https://kerngsp.com/event/community-pop-up-event-4/
LOCATION:Downtown Shafter\, James Street & Central Avenue\, Shafter\, CA\, 93263\, United States
ORGANIZER;CN="Kern County Subbasin":MAILTO:comments@KernGSP.com
END:VEVENT
BEGIN:VEVENT
DTSTART;TZID=UTC:20250501T173000
DTEND;TZID=UTC:20250501T190000
DTSTAMP:20260423T171739
CREATED:20250402T200351Z
LAST-MODIFIED:20250402T202147Z
UID:663-1746120600-1746126000@kerngsp.com
SUMMARY:Community Pop-Up Event
DESCRIPTION:Held at the Buttonwillow Parks and Recreation Little League Game. Engage with your Groundwater Sustainability Agency – your voice shapes water solutions! \nCommunity Pop-Up Flyer May 1
URL:https://kerngsp.com/event/community-pop-up-event-3/
LOCATION:Buttonwillow Park\, 556 Milo Avenue\, Buttonwillow\, CA\, 93206\, United States
ORGANIZER;CN="Kern County Subbasin":MAILTO:comments@KernGSP.com
END:VEVENT
BEGIN:VEVENT
DTSTART;TZID=UTC:20250426T090000
DTEND;TZID=UTC:20250426T120000
DTSTAMP:20260423T171739
CREATED:20250402T200341Z
LAST-MODIFIED:20250402T202131Z
UID:660-1745658000-1745668800@kerngsp.com
SUMMARY:Community Pop-Up Event
DESCRIPTION:Held at the North Kern South Tulare 2025 Annual Health Fair. Engage with your Groundwater Sustainability Agency – your voice shapes water solutions! \nCommunity Pop-Up Flyer – April 26
URL:https://kerngsp.com/event/community-pop-up-event-2/
LOCATION:Gloria Nelson Center Family Clinic\, 1500 N. 6th Avenue\, Delano\, CA\, 93215\, United States
ORGANIZER;CN="Kern County Subbasin":MAILTO:comments@KernGSP.com
END:VEVENT
BEGIN:VEVENT
DTSTART;TZID=UTC:20250425T090000
DTEND;TZID=UTC:20250425T113000
DTSTAMP:20260423T171739
CREATED:20250402T200329Z
LAST-MODIFIED:20250415T212611Z
UID:649-1745571600-1745580600@kerngsp.com
SUMMARY:Community Pop-Up Event
DESCRIPTION:Held in partnership with the Lost Hills Family Resource Center Food Distribution Event. Engage with your Groundwater Sustainability Agency – your voice shapes water solutions! \nCommunity Pop-Up Flyer – April 25
URL:https://kerngsp.com/event/community-pop-up-event/
LOCATION:A.M. Thomas Middle School\, 20979 Lobos Court\, Lost Hills\, CA\, 93249\, United States
ORGANIZER;CN="Kern County Subbasin":MAILTO:comments@KernGSP.com
END:VEVENT
BEGIN:VEVENT
DTSTART;VALUE=DATE:20250220
DTEND;VALUE=DATE:20250221
DTSTAMP:20260423T171739
CREATED:20241010T210419Z
LAST-MODIFIED:20241010T210419Z
UID:259-1740009600-1740095999@kerngsp.com
SUMMARY:Probationary Hearing
DESCRIPTION:On Thursday\, February 20\, 2025\, the State Water Board will hold a public hearing to consider designating the Kern County Subbasin as a probationary basin under SGMA. Thursday\, February 20\, 2025\, the State Water Board will hold a public hearing to consider designating the Kern County Subbasin as a probationary basin under SGMA.
URL:https://kerngsp.com/event/probationary-hearing/
LOCATION:CA
CATEGORIES:Kern GSP
END:VEVENT
BEGIN:VEVENT
DTSTART;TZID=UTC:20241004T080000
DTEND;TZID=UTC:20241104T170000
DTSTAMP:20260423T171739
CREATED:20241010T210951Z
LAST-MODIFIED:20241010T210951Z
UID:256-1728028800-1730739600@kerngsp.com
SUMMARY:GSP Public Comment Period
DESCRIPTION:
URL:https://kerngsp.com/event/gsp-public-comment-period/
LOCATION:CA
CATEGORIES:Kern GSP
END:VEVENT
BEGIN:VEVENT
DTSTART;TZID=UTC:20241003T180000
DTEND;TZID=UTC:20241003T200000
DTSTAMP:20260423T171739
CREATED:20241010T212549Z
LAST-MODIFIED:20241010T212549Z
UID:278-1727978400-1727985600@kerngsp.com
SUMMARY:Kern Subbasin Meeting - South Subbasin
DESCRIPTION:The Kern Subbasin developed a new Groundwater Sustainability Plan (GSP). Representatives at these meetings will present key points of the plan and be available for questions and feedback. Spanish translation will be available at each meeting. \nThere will be three meetings held on October 3\, 2024. \n\nSouth Subbasin – David Head Community Building (In-Person Only)\, 6pm – 8pm\n\nAnnouncement Flyer in English | Folleto Publicitario en Español
URL:https://kerngsp.com/event/kern-subbasin-meeting-south-subbasin/
LOCATION:David Head Community Building\, 10300 San Diego St.\, Lamont\, CA\, 93241\, United States
CATEGORIES:Kern GSP
END:VEVENT
BEGIN:VEVENT
DTSTART;TZID=UTC:20241003T140000
DTEND;TZID=UTC:20241003T160000
DTSTAMP:20260423T171739
CREATED:20241010T212300Z
LAST-MODIFIED:20241010T212300Z
UID:275-1727964000-1727971200@kerngsp.com
SUMMARY:Kern Subbasin 2024 Meeting - Central Subbasin
DESCRIPTION:The Kern Subbasin developed a new Groundwater Sustainability Plan (GSP). Representatives at these meetings will present key points of the plan and be available for questions and feedback. Spanish translation will be available at each meeting. \nThere will be three meetings held on October 3\, 2024. \n\nCentral Subbasin – Kern County Water Agency (In-Person and Virtual)\, 2pm – 4pm\nView the virtual meeting\n\nAnnouncement Flyer in English | Folleto Publicitario en Español
URL:https://kerngsp.com/event/kern-subbasin-2024-meeting-central-subbasin/
LOCATION:Kern County Water Agency\, 3200 Rio Mirada\, Bakersfield\, CA\, 93308\, United States
CATEGORIES:Kern GSP
END:VEVENT
BEGIN:VEVENT
DTSTART;TZID=UTC:20241003T100000
DTEND;TZID=UTC:20241003T120000
DTSTAMP:20260423T171739
CREATED:20241010T211927Z
LAST-MODIFIED:20241010T211927Z
UID:270-1727949600-1727956800@kerngsp.com
SUMMARY:Kern Subbasin 2024 Meeting - North Subbasin
DESCRIPTION:The Kern Subbasin developed a new Groundwater Sustainability Plan (GSP). Representatives at these meetings will present key points of the plan and be available for questions and feedback. Spanish translation will be available at each meeting. \nThree meetings were held on October 3\, 2024. \n\nNorth Subbasin – Mouser Center (In-Person Only)\, 10am – 12pm\n\nAnnouncement Flyer in English | Folleto Publicitario en Español
URL:https://kerngsp.com/event/kern-subbasin-2024-meeting-north-subbasin/
LOCATION:Mouser Center\, 100 South Second St.\, McFarland\, 93250\, United States
CATEGORIES:Kern GSP
END:VEVENT
BEGIN:VEVENT
DTSTART;TZID=UTC:20240829T173000
DTEND;TZID=UTC:20240829T203000
DTSTAMP:20260423T171739
CREATED:20241010T210927Z
LAST-MODIFIED:20241010T210927Z
UID:265-1724952600-1724963400@kerngsp.com
SUMMARY:Public Workshop - August 29\, 2024
DESCRIPTION:These public workshops are opportunities to learn more about the potential State Water Board actions and to provide public comment on the Draft Staff Report for the Kern County Subbasin. No regulatory decisions will be made at these workshops. Both workshops will have the same content. \nIn-person public workshop in the City of Bakersfield\, California from 5:30 PM to 8:30 PM\nAgenda | Agenda en Español | Agenda in Punjabi\nPresentation | Presentación en Español | Presentation in Punjabi
URL:https://kerngsp.com/event/public-workshop-august-29-2024/
LOCATION:Hodel’s Country Dining\, 5917 Knudsen Dr.\, Bakersfield\, CA\, 93308\, United States
CATEGORIES:Kern GSP
END:VEVENT
BEGIN:VEVENT
DTSTART;TZID=UTC:20240826T110000
DTEND;TZID=UTC:20240826T133000
DTSTAMP:20260423T171739
CREATED:20241010T210650Z
LAST-MODIFIED:20241010T210650Z
UID:262-1724670000-1724679000@kerngsp.com
SUMMARY:Public Workshop - August 26\, 2024
DESCRIPTION:These public workshops are opportunities to learn more about the potential State Water Board actions and to provide public comment on the Draft Staff Report for the Kern County Subbasin. No regulatory decisions will be made at these workshops. Both workshops will have the same content. \nAgenda | Agenda en Español | Agenda in Punjabi\nPresentation | Presentación en Español | Presentation in Punjabi\nVideo (English)
URL:https://kerngsp.com/event/public-workshop-august-26-2024/
LOCATION:Zoom
CATEGORIES:Kern GSP
END:VEVENT
END:VCALENDAR